BEGIN:VCALENDAR
VERSION:2.0
PRODID:-//Association Gombervaux - ECPv6.8.3//NONSGML v1.0//EN
CALSCALE:GREGORIAN
METHOD:PUBLISH
X-ORIGINAL-URL:https://www.gombervaux.fr
X-WR-CALDESC:Évènements pour Association Gombervaux
REFRESH-INTERVAL;VALUE=DURATION:PT1H
X-Robots-Tag:noindex
X-PUBLISHED-TTL:PT1H
BEGIN:VTIMEZONE
TZID:Europe/Paris
BEGIN:DAYLIGHT
TZOFFSETFROM:+0100
TZOFFSETTO:+0200
TZNAME:CEST
DTSTART:20220327T010000
END:DAYLIGHT
BEGIN:STANDARD
TZOFFSETFROM:+0200
TZOFFSETTO:+0100
TZNAME:CET
DTSTART:20221030T010000
END:STANDARD
END:VTIMEZONE
BEGIN:VEVENT
DTSTART;TZID=Europe/Paris:20220917T100000
DTEND;TZID=Europe/Paris:20220918T180000
DTSTAMP:20260424T092301
CREATED:20220914T141936Z
LAST-MODIFIED:20220914T141936Z
UID:4688-1663408800-1663524000@www.gombervaux.fr
SUMMARY:Journées Européennes du Patrimoine - 2022
DESCRIPTION:
URL:https://www.gombervaux.fr/event/journees-europeennes-du-patrimoine-2022/
LOCATION:Château de Gombervaux\, VAUCOULEURS\, 55140
CATEGORIES:JEP
ATTACH;FMTTYPE=image/png:https://www.gombervaux.fr/wp-content/uploads/2022/09/Programmation-JEP-2022.png
ORGANIZER;CN="Association Gombervaux":MAILTO:contact@gombervaux.fr
END:VEVENT
END:VCALENDAR