BEGIN:VCALENDAR
VERSION:2.0
PRODID:-//Association Gombervaux - ECPv6.8.3//NONSGML v1.0//EN
CALSCALE:GREGORIAN
METHOD:PUBLISH
X-WR-CALNAME:Association Gombervaux
X-ORIGINAL-URL:https://www.gombervaux.fr
X-WR-CALDESC:Évènements pour Association Gombervaux
REFRESH-INTERVAL;VALUE=DURATION:PT1H
X-Robots-Tag:noindex
X-PUBLISHED-TTL:PT1H
BEGIN:VTIMEZONE
TZID:Europe/Paris
BEGIN:DAYLIGHT
TZOFFSETFROM:+0100
TZOFFSETTO:+0200
TZNAME:CEST
DTSTART:20210328T010000
END:DAYLIGHT
BEGIN:STANDARD
TZOFFSETFROM:+0200
TZOFFSETTO:+0100
TZNAME:CET
DTSTART:20211031T010000
END:STANDARD
END:VTIMEZONE
BEGIN:VEVENT
DTSTART;TZID=Europe/Paris:20210515T090000
DTEND;TZID=Europe/Paris:20210515T170000
DTSTAMP:20260424T092434
CREATED:20210505T101356Z
LAST-MODIFIED:20210505T101357Z
UID:3904-1621069200-1621098000@www.gombervaux.fr
SUMMARY:Atelier découverte de savoir-faire
DESCRIPTION:
URL:https://www.gombervaux.fr/event/atelier-decouverte-de-savoir-faire/
LOCATION:Château de Gombervaux\, VAUCOULEURS\, 55140
ATTACH;FMTTYPE=image/jpeg:https://www.gombervaux.fr/wp-content/uploads/2021/04/Affiches-ateliers-decouverte-savoir-faire.jpg
ORGANIZER;CN="Association Gombervaux":MAILTO:contact@gombervaux.fr
END:VEVENT
END:VCALENDAR